BEGIN:VCALENDAR
VERSION:2.0
PRODID:-//Squarespace Inc/Squarespace 6//v6//EN
BEGIN:VEVENT
UID:5da3dd65519bf62664ea5131@squarespace.com
DTSTAMP:20191014T023403Z
DTSTART:20191027T223000Z
DTEND:20191027T233000Z
SUMMARY:A Concert for Compassion
GEO:40.720756;-74.000761
LOCATION:Performing Arts Centre Loreto\, 1600 Sturt Street\, Ballarat\, Aus
 tralia
END:VEVENT
END:VCALENDAR
