BEGIN:VCALENDAR
VERSION:2.0
PRODID:-//Squarespace Inc/Squarespace 6//v6//EN
BEGIN:VEVENT
UID:5e4f246ebe1cf4047d09555f@squarespace.com
DTSTAMP:20200227T044418Z
DTSTART:20200321T140000Z
DTEND:20200321T180000Z
SUMMARY:Abstract\, Line &amp\; Colour Print Session 
GEO:-37.561025;143.859575
LOCATION:Ballarat Trades Hall\, 24 Camp St\, Ballarat
END:VEVENT
END:VCALENDAR
