BEGIN:VCALENDAR
VERSION:2.0
PRODID:-//Squarespace Inc/Squarespace 6//v6//EN
BEGIN:VEVENT
UID:5e4f2a2f8ed056205aad7c60@squarespace.com
DTSTAMP:20200221T005745Z
DTSTART:20200228T003000Z
DTEND:20200228T023000Z
SUMMARY:Acoustic Night at the North Britain Hotel
GEO:-37.569812;143.852989
LOCATION:North Britain Hotel\, 502 Doveton Street South\, Ballarat Central\
 , VIC\, 3350\, Australia
END:VEVENT
END:VCALENDAR
