BEGIN:VCALENDAR
VERSION:2.0
PRODID:-//Squarespace Inc/Squarespace 6//v6//EN
BEGIN:VEVENT
UID:5e20de12ea16594053770445@squarespace.com
DTSTAMP:20200116T220838Z
DTSTART:20200125T153000Z
DTEND:20200125T203000Z
SUMMARY:Acrylic Pouring Drop In Day - Make you own painting 
GEO:-37.559776;143.858363
LOCATION:Claymotion\, 34A Mair Street\, Ballarat
END:VEVENT
END:VCALENDAR
