BEGIN:VCALENDAR
VERSION:2.0
PRODID:-//Squarespace Inc/Squarespace 6//v6//EN
BEGIN:VEVENT
UID:5d79a6b92493ff2b9ba625e5@squarespace.com
DTSTAMP:20190912T020744Z
DTSTART:20190921T000000Z
DTEND:20190921T013000Z
SUMMARY:Aime Brûlėe in Le Femmes de Versailles (The Women of Versailles)
GEO:-37.562415;143.858541
LOCATION:Ballarat Mechanics Institute\, 117-119 Sturt Street\, Ballarat Cen
 tral\, VIC\, 3350\, Australia
END:VEVENT
END:VCALENDAR
