BEGIN:VCALENDAR
VERSION:2.0
PRODID:-//Squarespace Inc/Squarespace 6//v6//EN
BEGIN:VEVENT
UID:5e1ea3a416e8b248159e393e@squarespace.com
DTSTAMP:20200120T224709Z
DTSTART:20200202T200000Z
DTEND:20200202T220000Z
SUMMARY:Basement Sessions: Aimee Bruhlee
GEO:-37.5614;143.859526
LOCATION:The Lost Ones\, 14 Camp Street\, Ballarat Central\, VIC\, 3350\, A
 ustralia
END:VEVENT
END:VCALENDAR
