BEGIN:VCALENDAR
VERSION:2.0
PRODID:-//Squarespace Inc/Squarespace 6//v6//EN
BEGIN:VEVENT
UID:5e2fc46c8cb7153a935018a3@squarespace.com
DTSTAMP:20200128T052724Z
DTSTART:20200206T003000Z
DTEND:20200206T023000Z
SUMMARY:Amie Brulee sings Songs from the Heart
GEO:-37.562769;143.857346
LOCATION:Craig's Hotel\, 10 Lydiard Street South\, Ballarat Central\, VIC\, 
 3350\, Australia
END:VEVENT
END:VCALENDAR
