BEGIN:VCALENDAR
VERSION:2.0
PRODID:-//Squarespace Inc/Squarespace 6//v6//EN
BEGIN:VEVENT
UID:5da3e943fe2f655194b293be@squarespace.com
DTSTAMP:20191014T033109Z
DTSTART:20191014T220000Z
DTEND:20191015T000000Z
SUMMARY:Art &amp\; Design Exhibition
GEO:40.720756;-74.000761
LOCATION:Ballarat High School\, 1726 Sturt Street\, Ballarat
END:VEVENT
END:VCALENDAR
