BEGIN:VCALENDAR
VERSION:2.0
PRODID:-//Squarespace Inc/Squarespace 6//v6//EN
BEGIN:VEVENT
UID:5dd4a070f0a28a2d3baab21b@squarespace.com
DTSTAMP:20191120T021405Z
DTSTART:20191129T223000Z
DTEND:20191130T020000Z
SUMMARY:Art Gallery Beach Party with Shell Yeah and DJ Sadge
GEO:-37.560436;143.858291
LOCATION:Art Gallery of Ballarat\, 40 Lydiard Street North\, Ballarat Centr
 al\, VIC\, 3350\, Australia
END:VEVENT
END:VCALENDAR
