BEGIN:VCALENDAR
VERSION:2.0
PRODID:-//Squarespace Inc/Squarespace 6//v6//EN
BEGIN:VEVENT
UID:5e20da1c2ea93e14b2affa1a@squarespace.com
DTSTAMP:20200116T215317Z
DTSTART:20200202T153000Z
DTEND:20200202T163000Z
SUMMARY:Art and Empathy tours of the Gallery 
GEO:-37.560436;143.858291
LOCATION:Art Gallery of Ballarat\, 40 Lydiard Street North\, Ballarat Centr
 al\, VIC\, 3350\, Australia
END:VEVENT
END:VCALENDAR
