BEGIN:VCALENDAR
VERSION:2.0
PRODID:-//Squarespace Inc/Squarespace 6//v6//EN
BEGIN:VEVENT
UID:5e20db70bb909c4a01a7898f@squarespace.com
DTSTAMP:20200128T052927Z
DTSTART:20200329T143000Z
DTEND:20200329T153000Z
SUMMARY:Art and Empathy tours of the Gallery 
GEO:-37.560436;143.858291
LOCATION:Art Gallery of Ballarat\, 40 Lydiard Street North\, Ballarat Centr
 al\, VIC\, 3350\, Australia
END:VEVENT
END:VCALENDAR
