BEGIN:VCALENDAR
VERSION:2.0
PRODID:-//Squarespace Inc/Squarespace 6//v6//EN
BEGIN:VEVENT
UID:5d37d5abe6603300016d7310@squarespace.com
DTSTAMP:20190724T040541Z
DTSTART:20190824T140000Z
DTEND:20191020T210000Z
SUMMARY:Ballarat International Foto Biennale: Centre for National Photograp
 hy
GEO:-37.562429;143.857409
LOCATION:Centre for National Photography\, 4 Bath Lane\, Ballarat\, Austral
 ia
END:VEVENT
END:VCALENDAR
