BEGIN:VCALENDAR
VERSION:2.0
PRODID:-//Squarespace Inc/Squarespace 6//v6//EN
BEGIN:VEVENT
UID:5d37d2695fa8c500015978e6@squarespace.com
DTSTAMP:20190724T034915Z
DTSTART:20190824T140000Z
DTEND:20191020T140000Z
SUMMARY:Ballarat International Foto Biennale: Fiona Foley(Australia)
GEO:-37.561091;143.858167
LOCATION:The Mining Exchange\, 12 Lydiard Street North\, Ballarat Central\, 
 VIC\, 3350\, Australia
END:VEVENT
END:VCALENDAR
