BEGIN:VCALENDAR
VERSION:2.0
PRODID:-//Squarespace Inc/Squarespace 6//v6//EN
BEGIN:VEVENT
UID:5d2fc9b10a3dcf0001a912eb@squarespace.com
DTSTAMP:20190730T055143Z
DTSTART:20190901T170000Z
DTEND:20190901T180000Z
SUMMARY:Ballarat International Foto Biennale: Q &amp\; A with Ray Martin
GEO:-37.559907;143.855394
LOCATION:Mitchell Harris Wines\, 38 Doveton Street North\, Ballarat Central
 \, VIC\, 3350\, Australia
END:VEVENT
END:VCALENDAR
