BEGIN:VCALENDAR
VERSION:2.0
PRODID:-//Squarespace Inc/Squarespace 6//v6//EN
BEGIN:VEVENT
UID:5d37d920c36a870001f2811e@squarespace.com
DTSTAMP:20190730T011929Z
DTSTART:20190824T140000Z
DTEND:20191020T210000Z
SUMMARY:Ballarat International Foto Biennale: To the Moon and Back
GEO:-37.580378;143.860538
LOCATION:Ballarat Municipal Observatory and Museum\, 439 Cobden Street\, Mo
 unt Pleasant\, VIC\, 3350\, Australia
END:VEVENT
END:VCALENDAR
