BEGIN:VCALENDAR
VERSION:2.0
PRODID:-//Squarespace Inc/Squarespace 6//v6//EN
BEGIN:VEVENT
UID:5d22e80713a1670001dfe9c2@squarespace.com
DTSTAMP:20190708T070015Z
DTSTART:20190823T140000Z
DTEND:20191020T210000Z
SUMMARY:Ballarat International Foto Biennale
END:VEVENT
END:VCALENDAR
