BEGIN:VCALENDAR
VERSION:2.0
PRODID:-//Squarespace Inc/Squarespace 6//v6//EN
BEGIN:VEVENT
UID:5d9aa5d8a141d425ee24e0ce@squarespace.com
DTSTAMP:20191007T024336Z
DTSTART:20191030T230000Z
DTEND:20191031T010000Z
SUMMARY:Ballarat Writers
GEO:-37.568545;143.837674
LOCATION:Bunch of Grapes Hotel\, 401 Pleasant Street South\, Ballarat
END:VEVENT
END:VCALENDAR
