BEGIN:VCALENDAR
VERSION:2.0
PRODID:-//Squarespace Inc/Squarespace 6//v6//EN
BEGIN:VEVENT
UID:5e1ea618348d0b3315f671d6@squarespace.com
DTSTAMP:20200115T054904Z
DTSTART:20200214T000000Z
DTEND:20200214T023000Z
SUMMARY:Ballarat Film Society Screening of Aurore
GEO:-37.562415;143.858541
LOCATION:Ballarat Mechanics Institute\, 117 Sturt Street\, Ballarat Central
 \, VIC\, 3350\, Australia
END:VEVENT
END:VCALENDAR
