BEGIN:VCALENDAR
VERSION:2.0
PRODID:-//Squarespace Inc/Squarespace 6//v6//EN
BEGIN:VEVENT
UID:5e1ea7d048c1600b960f5206@squarespace.com
DTSTAMP:20200128T052830Z
DTSTART:20200312T230000Z
DTEND:20200313T013000Z
SUMMARY:Ballarat Film Society Screening: Leave no Trace
GEO:-37.562415;143.858541
LOCATION:Ballarat Mechanics Institute\, 117 Sturt Street\, Ballarat Central
 \, VIC\, 3350\, Australia
END:VEVENT
END:VCALENDAR
