BEGIN:VCALENDAR
VERSION:2.0
PRODID:-//Squarespace Inc/Squarespace 6//v6//EN
BEGIN:VEVENT
UID:5e1bedfa4c275445aaeb6a4a@squarespace.com
DTSTAMP:20200113T041731Z
DTSTART:20200125T233000Z
DTEND:20200126T003000Z
SUMMARY:Ballarat Foto Walks
GEO:-37.562466;143.857597
LOCATION:National Centre for Photography\, 4 Bath Ln\, Ballarat Central\, V
 IC\, 3350\, Australia
END:VEVENT
END:VCALENDAR
