BEGIN:VCALENDAR
VERSION:2.0
PRODID:-//Squarespace Inc/Squarespace 6//v6//EN
BEGIN:VEVENT
UID:5e1e9aa9f33d00219d82ed4e@squarespace.com
DTSTAMP:20200217T044741Z
DTSTART:20200223T150000Z
DTEND:20200223T220000Z
SUMMARY:Ballarat Highland Gathering
GEO:-37.565529;143.826453
LOCATION:Victoria Park\, Newington\, VIC\, 3350\, Australia
END:VEVENT
END:VCALENDAR
