BEGIN:VCALENDAR
VERSION:2.0
PRODID:-//Squarespace Inc/Squarespace 6//v6//EN
BEGIN:VEVENT
UID:5e2f6adafa4f952e37c32841@squarespace.com
DTSTAMP:20200227T041404Z
DTSTART:20200403T150000Z
DTEND:20200413T210000Z
SUMMARY:Ballarat Open Studios - the Art of Making
END:VEVENT
END:VCALENDAR
