BEGIN:VCALENDAR
VERSION:2.0
PRODID:-//Squarespace Inc/Squarespace 6//v6//EN
BEGIN:VEVENT
UID:5e14180a553f9b060f26cd88@squarespace.com
DTSTAMP:20200107T053942Z
DTSTART:20200117T220000Z
DTEND:20200118T000000Z
SUMMARY:Ballarat's Best for Bushfire Relief
END:VEVENT
END:VCALENDAR
