BEGIN:VCALENDAR
VERSION:2.0
PRODID:-//Squarespace Inc/Squarespace 6//v6//EN
BEGIN:VEVENT
UID:5e1ce3206a08c16410e50963@squarespace.com
DTSTAMP:20200113T214710Z
DTSTART:20200118T200000Z
DTEND:20200119T030000Z
SUMMARY:Ballarat Short Film Festival 2020
GEO:-37.567375;143.854464
LOCATION:The Mallow Hotel
END:VEVENT
END:VCALENDAR
