BEGIN:VCALENDAR
VERSION:2.0
PRODID:-//Squarespace Inc/Squarespace 6//v6//EN
BEGIN:VEVENT
UID:5cd37b8fef7ab900015023d3@squarespace.com
DTSTAMP:20190607T070409Z
DTSTART:20190519T010000Z
DTEND:20190805T020000Z
SUMMARY:Becoming Modern - Art Gallery of Ballarat
END:VEVENT
END:VCALENDAR
