BEGIN:VCALENDAR
VERSION:2.0
PRODID:-//Squarespace Inc/Squarespace 6//v6//EN
BEGIN:VEVENT
UID:5e1f987850880c2dddb32dbf@squarespace.com
DTSTAMP:20200115T230524Z
DTSTART:20200201T180000Z
DTEND:20200201T210000Z
SUMMARY:Pottery Wheel Throwing Workshop - Beginners
GEO:-37.559776;143.858363
LOCATION:Claymotion\, 34A Mair Street\, Ballarat Central\, VIC\, 3350\, Aus
 tralia
END:VEVENT
END:VCALENDAR
