BEGIN:VCALENDAR
VERSION:2.0
PRODID:-//Squarespace Inc/Squarespace 6//v6//EN
BEGIN:VEVENT
UID:5d48cf3a7fda4c000186da99@squarespace.com
DTSTAMP:20190806T011321Z
DTSTART:20191008T130000Z
DTEND:20191008T160000Z
SUMMARY:Blacksmith Workshop
GEO:-37.573056;143.862247
LOCATION:Sovereign Hill\, Bradshaw Street\, Ballarat VIC\, Australia
END:VEVENT
END:VCALENDAR
