BEGIN:VCALENDAR
VERSION:2.0
PRODID:-//Squarespace Inc/Squarespace 6//v6//EN
BEGIN:VEVENT
UID:5e3a4ee93177b218604728e9@squarespace.com
DTSTAMP:20200205T051748Z
DTSTART:20200228T000000Z
DTEND:20200228T030000Z
SUMMARY:Ballarat Writers - Members Night
GEO:-37.568545;143.837674
LOCATION:Bunch of Grapes Hotel\, 401 Pleasant Street South\, Ballarat Centr
 al\, VIC\, 3350\, Australia
END:VEVENT
END:VCALENDAR
