BEGIN:VCALENDAR
VERSION:2.0
PRODID:-//Squarespace Inc/Squarespace 6//v6//EN
BEGIN:VEVENT
UID:5e1cfb6a71426f2f2905d089@squarespace.com
DTSTAMP:20200113T232443Z
DTSTART:20200128T190000Z
DTEND:20200128T203000Z
SUMMARY:BMI Building Tours 
GEO:-37.562415;143.858541
LOCATION:Ballaarat Mechanics Institute\, 117-119 Sturt Street\, Ballarat Ce
 ntral\, VIC\, 3350\, Australia
END:VEVENT
END:VCALENDAR
