BEGIN:VCALENDAR
VERSION:2.0
PRODID:-//Squarespace Inc/Squarespace 6//v6//EN
BEGIN:VEVENT
UID:5e2f6d2c2a5c07247cc67e20@squarespace.com
DTSTAMP:20200127T231326Z
DTSTART:20200202T160000Z
DTEND:20200202T173000Z
SUMMARY:Botanic Art Drawing with Louisa West 
GEO:-37.565121;143.8383
LOCATION:Food is Free Inc. Green Space\, 212 Rippon Street South\, Ballarat 
 Central
END:VEVENT
END:VCALENDAR
