BEGIN:VCALENDAR
VERSION:2.0
PRODID:-//Squarespace Inc/Squarespace 6//v6//EN
BEGIN:VEVENT
UID:5d9aa4eca141d425ee24ce92@squarespace.com
DTSTAMP:20191007T023955Z
DTSTART:20191027T130000Z
DTEND:20191027T200000Z
SUMMARY:Buninyong Festival: Celebrating the Good Life
GEO:-37.650278;143.883889
LOCATION:Buninyong
END:VEVENT
END:VCALENDAR
