BEGIN:VCALENDAR
VERSION:2.0
PRODID:-//Squarespace Inc/Squarespace 6//v6//EN
BEGIN:VEVENT
UID:5dddef98a6666154ca874af9@squarespace.com
DTSTAMP:20191127T040509Z
DTSTART:20191128T220000Z
DTEND:20191129T000000Z
SUMMARY:Buninyong Christmas Tree Art Exhibition Opening
GEO:-37.650631;143.885311
LOCATION:Buninyong Town Hall\, Learmonth Street\, Buninyong\, VIC\, 3357\, 
 Australia
END:VEVENT
END:VCALENDAR
