BEGIN:VCALENDAR
VERSION:2.0
PRODID:-//Squarespace Inc/Squarespace 6//v6//EN
BEGIN:VEVENT
UID:5e321fb436caa1146846163a@squarespace.com
DTSTAMP:20200130T001845Z
DTSTART:20200130T030000Z
DTEND:20200315T210000Z
SUMMARY:Cake Industries:  08:26am
GEO:-37.560436;143.858291
LOCATION:Art Gallery of BallaratLyd\, 40 Lydiard Street North\, Ballarat Ce
 ntral\, VIC\, 3350\, Australia
END:VEVENT
END:VCALENDAR
