BEGIN:VCALENDAR
VERSION:2.0
PRODID:-//Squarespace Inc/Squarespace 6//v6//EN
BEGIN:VEVENT
UID:5dd49da17d21622586c7562f@squarespace.com
DTSTAMP:20191120T020219Z
DTSTART:20191129T230000Z
DTEND:20191130T010000Z
SUMMARY:Car Park Roof Top Takeover
END:VEVENT
END:VCALENDAR
