BEGIN:VCALENDAR
VERSION:2.0
PRODID:-//Squarespace Inc/Squarespace 6//v6//EN
BEGIN:VEVENT
UID:5d4a5b715df26e00017903fb@squarespace.com
DTSTAMP:20190912T020902Z
DTSTART:20190824T140000Z
DTEND:20191020T210000Z
SUMMARY:Ballarat International Foto Festival: Central Goldfields Water: Wat
 erworks
GEO:-37.561091;143.858167
LOCATION:12 Lydiard St Nth\,\, Ballarat\, Australia
END:VEVENT
END:VCALENDAR
