BEGIN:VCALENDAR
VERSION:2.0
PRODID:-//Squarespace Inc/Squarespace 6//v6//EN
BEGIN:VEVENT
UID:5d9bd20079967c167025bba6@squarespace.com
DTSTAMP:20191008T000724Z
DTSTART:20191201T010000Z
DTEND:20191208T020000Z
SUMMARY:Christmas Carol
GEO:-37.566722;143.856466
LOCATION:Courthouse Theatre\, 6 Grant Street\, Ballarat
END:VEVENT
END:VCALENDAR
