BEGIN:VCALENDAR
VERSION:2.0
PRODID:-//Squarespace Inc/Squarespace 6//v6//EN
BEGIN:VEVENT
UID:5e40d93bf875f52b56a6f098@squarespace.com
DTSTAMP:20200210T042014Z
DTSTART:20200214T223000Z
DTEND:20200215T010000Z
SUMMARY:Exhibition - Themes of Gender Equality and Cultural Identity
GEO:-37.56405;143.869038
LOCATION:Centre for Multicultural Youth (Ballarat)\, 25-39 Barkly Street\, 
 Ballarat East\, VIC\, 3350\, Australia
END:VEVENT
END:VCALENDAR
