BEGIN:VCALENDAR
VERSION:2.0
PRODID:-//Squarespace Inc/Squarespace 6//v6//EN
BEGIN:VEVENT
UID:5e33bb56da892b503e7b8db3@squarespace.com
DTSTAMP:20200131T053458Z
DTSTART:20200214T150000Z
DTEND:20200214T163000Z
SUMMARY:Arts and Culture Coffee Catch Up
GEO:-37.563504;143.857468
LOCATION:Kittelty's\, 40 Lydiard Street\, Ballarat Central
END:VEVENT
END:VCALENDAR
