BEGIN:VCALENDAR
VERSION:2.0
PRODID:-//Squarespace Inc/Squarespace 6//v6//EN
BEGIN:VEVENT
UID:5d64bd8e18a0f700011ee3b5@squarespace.com
DTSTAMP:20190827T052125Z
DTSTART:20191020T040000Z
DTEND:20191027T040000Z
SUMMARY:Compassionate Ballarat
END:VEVENT
END:VCALENDAR
