BEGIN:VCALENDAR
VERSION:2.0
PRODID:-//Squarespace Inc/Squarespace 6//v6//EN
BEGIN:VEVENT
UID:5d31350cbc237800017c9d05@squarespace.com
DTSTAMP:20190719T031614Z
DTSTART:20190727T170000Z
DTEND:20190727T190000Z
SUMMARY:Contemporary Pom-Pom Wall Hanging - Adult workshop 
END:VEVENT
END:VCALENDAR
