BEGIN:VCALENDAR
VERSION:2.0
PRODID:-//Squarespace Inc/Squarespace 6//v6//EN
BEGIN:VEVENT
UID:5e1ce7d1598b8d4014ccaeb8@squarespace.com
DTSTAMP:20200120T225037Z
DTSTART:20200405T133000Z
DTEND:20200405T210000Z
SUMMARY:CraftAlive Ballarat
GEO:-37.535248;143.848828
LOCATION:Wendouree Sports and Events Centre\, Norman Street\, Ballarat
END:VEVENT
END:VCALENDAR
