BEGIN:VCALENDAR
VERSION:2.0
PRODID:-//Squarespace Inc/Squarespace 6//v6//EN
BEGIN:VEVENT
UID:5d64b87e24d57900014915c6@squarespace.com
DTSTAMP:20190827T050633Z
DTSTART:20190831T140000Z
DTEND:20190831T190000Z
SUMMARY:Digital Innovation Street Party
GEO:-37.565402;143.857426
LOCATION:Ballarat Tech Park\, SMB Campus | Building K\, 136 Albert St\,\, B
 allarat\, 3350
END:VEVENT
END:VCALENDAR
