BEGIN:VCALENDAR
VERSION:2.0
PRODID:-//Squarespace Inc/Squarespace 6//v6//EN
BEGIN:VEVENT
UID:6020d1df50bac967bc741734@squarespace.com
DTSTAMP:20210208T060000Z
DTSTART:20210501T093000Z
DTEND:20210501T103000Z
SUMMARY:Don Huntley Memorial Piano Recital 
GEO:-37.539465;143.828914
LOCATION:Wendouree Perorming Arts Centre\, 1220 Howitt Street\, Wendouree\, 
 VIC\, 3355\, Australia
END:VEVENT
END:VCALENDAR
