BEGIN:VCALENDAR
VERSION:2.0
PRODID:-//Squarespace Inc/Squarespace 6//v6//EN
BEGIN:VEVENT
UID:5dd494e07ebdb24c83e42975@squarespace.com
DTSTAMP:20191120T014221Z
DTSTART:20191123T180000Z
DTEND:20191123T200000Z
SUMMARY:Drawing for Beginners
GEO:-37.560621;143.863388
LOCATION:Claymotion\, 34a Mair Street East\, Ballarat\, VIC\, Australia
END:VEVENT
END:VCALENDAR
