BEGIN:VCALENDAR
VERSION:2.0
PRODID:-//Squarespace Inc/Squarespace 6//v6//EN
BEGIN:VEVENT
UID:5e2f7084244c017aba10e11d@squarespace.com
DTSTAMP:20200127T232508Z
DTSTART:20200307T180000Z
DTEND:20200328T190000Z
SUMMARY:Drawing for Beginners
GEO:-37.560621;143.863388
LOCATION:ClayMotion\, 34A Mair Street East\, Ballarat
END:VEVENT
END:VCALENDAR
