BEGIN:VCALENDAR
VERSION:2.0
PRODID:-//Squarespace Inc/Squarespace 6//v6//EN
BEGIN:VEVENT
UID:5e30f29870fdcf14edde1b70@squarespace.com
DTSTAMP:20200325T025142Z
DTSTART:20200405T150000Z
DTEND:20200405T170000Z
SUMMARY:Open Studios - Drawing the women of Versailles - CANCELLED
GEO:-37.562159;143.850256
LOCATION:TBC\, Australia
END:VEVENT
END:VCALENDAR
