BEGIN:VCALENDAR
VERSION:2.0
PRODID:-//Squarespace Inc/Squarespace 6//v6//EN
BEGIN:VEVENT
UID:5e1e7655c7e17a1fcbfb3d9d@squarespace.com
DTSTAMP:20200115T023644Z
DTSTART:20200202T150000Z
DTEND:20200202T190000Z
SUMMARY:Draw your own pet workshop with Maggie Dannatt
GEO:-37.560436;143.858291
LOCATION:Art Galllery of Ballarat\, 40 Lydiard Street North\, Ballarat
END:VEVENT
END:VCALENDAR
