BEGIN:VCALENDAR
VERSION:2.0
PRODID:-//Squarespace Inc/Squarespace 6//v6//EN
BEGIN:VEVENT
UID:5db77e1109af2347a8dbead7@squarespace.com
DTSTAMP:20191028T235346Z
DTSTART:20191102T170000Z
DTEND:20191102T200000Z
SUMMARY:Eco Dyeing Workshop
GEO:-37.560621;143.863388
LOCATION:ClayMotion\, 34a Mair Street East\, Ballarat\, VIC\, Australia
END:VEVENT
END:VCALENDAR
