BEGIN:VCALENDAR
VERSION:2.0
PRODID:-//Squarespace Inc/Squarespace 6//v6//EN
BEGIN:VEVENT
UID:5e279365fdc3c20d9afac11c@squarespace.com
DTSTAMP:20200122T002043Z
DTSTART:20200215T180000Z
DTEND:20200215T210000Z
SUMMARY:Eco Dyeing Workshop - Claymotion
GEO:-37.560621;143.863388
LOCATION:Claymotion\, 34A Mair Street East\, Bakery Hill\, VIC\, 3350\, Aus
 tralia
END:VEVENT
END:VCALENDAR
