BEGIN:VCALENDAR
VERSION:2.0
PRODID:-//Squarespace Inc/Squarespace 6//v6//EN
BEGIN:VEVENT
UID:5d6889ebc902690001d4b699@squarespace.com
DTSTAMP:20190830T023855Z
DTSTART:20190929T000000Z
DTEND:20191006T000000Z
SUMMARY:Euripides' Medea
GEO:-37.562723;143.857882
LOCATION:Her Majesty's Theatre\, 17 Lydiard Street south\, Ballarat
END:VEVENT
END:VCALENDAR
